BEGIN:VCALENDAR
VERSION:2.0
PRODID:-//Fräizäitveräin - ECPv5.4.0.1//NONSGML v1.0//EN
CALSCALE:GREGORIAN
METHOD:PUBLISH
X-WR-CALNAME:Fräizäitveräin
X-ORIGINAL-URL:https://fmw.lu
X-WR-CALDESC:Veranstaltungen für Fräizäitveräin
BEGIN:VTIMEZONE
TZID:UTC
BEGIN:STANDARD
TZOFFSETFROM:+0000
TZOFFSETTO:+0000
TZNAME:UTC
DTSTART:20190101T000000
END:STANDARD
END:VTIMEZONE
BEGIN:VEVENT
DTSTART;TZID=UTC:20190517T190000
DTEND;TZID=UTC:20190517T230000
DTSTAMP:20210721T224056
CREATED:20190309T131719Z
LAST-MODIFIED:20190410T200050Z
UID:685-1558119600-1558134000@fmw.lu
SUMMARY:Quizowend 2019
DESCRIPTION:Aer Umeldung elo online maachen. \nFir Iessen an Drenken ass beschtens gesuergt. \n  \n\n  \n\n\n\n\n\n\n\n\n\n Umellen fir den Quizowend 2019  \n Datum: Freideg - 17. Mee 2019  \n Ufank: 19 Auer  \n Numm vun aerer Equipe*:   \n Kontaktpersoun*:   \n Tel Nummer vun der Kontaktpersoun*:   \n e-mail Adresse vun der Kontaktpersoun*:   \n Ween spillt alles mat? \n(maximal 6 Léit pro Equipe / Präiss fir Umeldung ass 5€/Kapp) \nNum vun der 1.Persoun \nNum vun der 2.Persoun \nNum vun der 3.Persoun \nNum vun der 4.Persoun \nNum vun der 5.Persoun \nNum vun der 6.Persoun  \n Weivill mol wëll dir Iessen matbestellen? \nËt gëtt eng Plancha mat Ham a Keiss (Präiss 15€/Kapp)  \n Schreiwt eis een Message\n      \nWann iergend eng Fro ass dann kënnt dir iech ëmmer bei eis iwwert info@fmw.lu an quitz@fmw.lu mellen. \n \n\n  \nNo aerer Umeldung mellen mir eis bei der Kontaktpersoun an schecken iech eng Rechnung.
URL:https://fmw.lu/event/quizowend-2019/
LOCATION:centre culturel Mertert\, rue du parc\, Mertert\, 6684\, Luxembourg
CATEGORIES:Quizowend 2019
ORGANIZER;CN="Fr%C3%A4iz%C3%A4itver%C3%A4in%20M%C3%A4ertert-Waaserb%C3%ABlleg":MAILTO:info@fmw.lu
END:VEVENT
END:VCALENDAR