BEGIN:VCALENDAR
VERSION:2.0
PRODID:-//Fräizäitveräin - ECPv5.1.4//NONSGML v1.0//EN
CALSCALE:GREGORIAN
METHOD:PUBLISH
X-WR-CALNAME:Fräizäitveräin
X-ORIGINAL-URL:https://fmw.lu
X-WR-CALDESC:Veranstaltungen für Fräizäitveräin
BEGIN:VTIMEZONE
TZID:UTC
BEGIN:STANDARD
TZOFFSETFROM:+0000
TZOFFSETTO:+0000
TZNAME:UTC
DTSTART:20180101T000000
END:STANDARD
END:VTIMEZONE
BEGIN:VEVENT
DTSTART;VALUE=DATE:20181214
DTEND;VALUE=DATE:20181217
DTSTAMP:20200812T041952
CREATED:20181102T215231Z
LAST-MODIFIED:20181102T221311Z
UID:116-1544745600-1545004799@fmw.lu
SUMMARY:Hobby-Chrëschtmaart 2018
DESCRIPTION:  \nMerken \nMerken \nMerken \n
URL:https://fmw.lu/event/hobby-chreschtmaart-2018/
LOCATION:Mertert (Parc)\, rue du parc\, Mertert\, Mertert\, 6684\, Luxembourg
ORGANIZER;CN="Fr%C3%A4iz%C3%A4itver%C3%A4in%20M%C3%A4ertert-Waaserb%C3%ABlleg":MAILTO:info@fmw.lu
END:VEVENT
END:VCALENDAR